BEGIN:VCALENDAR
VERSION:2.0
PRODID:-//Rancho Del Pacifico - ECPv6.15.20//NONSGML v1.0//EN
CALSCALE:GREGORIAN
METHOD:PUBLISH
X-ORIGINAL-URL:https://ranchodelpacificoaz.org
X-WR-CALDESC:Events for Rancho Del Pacifico
REFRESH-INTERVAL;VALUE=DURATION:PT1H
X-Robots-Tag:noindex
X-PUBLISHED-TTL:PT1H
BEGIN:VTIMEZONE
TZID:UTC
BEGIN:STANDARD
TZOFFSETFROM:+0000
TZOFFSETTO:+0000
TZNAME:UTC
DTSTART:20170101T000000
END:STANDARD
END:VTIMEZONE
BEGIN:VEVENT
DTSTART;TZID=UTC:20180529T180000
DTEND;TZID=UTC:20180529T193000
DTSTAMP:20260419T140113
CREATED:20180524T224936Z
LAST-MODIFIED:20180524T224936Z
UID:878-1527616800-1527622200@ranchodelpacificoaz.org
SUMMARY:She Believed She Could\, So She Did - Teen Group
DESCRIPTION:Rancho Del Pacifico offers a safe place to to process life’s challenges by connecting with horses and group participants. \nThe horse is used as a counseling partner to help improve: \n\nVerbal Communication\nAssertiveness\nCreative Thinking\nTaking Responsibility\nLeadership\nSelf-Confidence\nTeamwork\nProblem-Solving\n\nThe group is led and facilitated by a licensed professional counselor. \nTo schedule a session\, or multiple sessions\, please call our Ranch Office at 480-802-8059. \nCIGNA Insurance is accepted. Private pay cost is $35.
URL:https://ranchodelpacificoaz.org/event/she-believed-she-could-so-she-did-teen-group/
LOCATION:Rancho Del Pacifico\, 12738 E Via De Arboles\, Chandler\, AZ\, 85249\, United States
ORGANIZER;CN="Jennifer Siozos":MAILTO:jennifers@ranchodelpacificoaz.org
END:VEVENT
END:VCALENDAR