BEGIN:VCALENDAR
VERSION:2.0
PRODID:-//Rancho Del Pacifico - ECPv6.15.20//NONSGML v1.0//EN
CALSCALE:GREGORIAN
METHOD:PUBLISH
X-WR-CALNAME:Rancho Del Pacifico
X-ORIGINAL-URL:https://ranchodelpacificoaz.org
X-WR-CALDESC:Events for Rancho Del Pacifico
REFRESH-INTERVAL;VALUE=DURATION:PT1H
X-Robots-Tag:noindex
X-PUBLISHED-TTL:PT1H
BEGIN:VTIMEZONE
TZID:UTC
BEGIN:STANDARD
TZOFFSETFROM:+0000
TZOFFSETTO:+0000
TZNAME:UTC
DTSTART:20170101T000000
END:STANDARD
END:VTIMEZONE
BEGIN:VEVENT
DTSTART;TZID=UTC:20180526T090000
DTEND;TZID=UTC:20180526T103000
DTSTAMP:20260419T174757
CREATED:20180523T232432Z
LAST-MODIFIED:20180523T232440Z
UID:805-1527325200-1527330600@ranchodelpacificoaz.org
SUMMARY:Gleeful Goats - Kids Activity Event
DESCRIPTION:This activity will feature our adorable herd of baby Nigerian Dwarf Goats. These little guys are roughly 6-months old and can’t wait to make some new friends! \nThe event will be held outside\, and centers around some light exercise stretching and an activity course. The goats will be present for all activities – we encourage you to pet and interact with them! \nPlease wear closed-toe shoes (sneakers are preferred)\, and sunscreen. \nTo register\, please call our office at 480-802-8059. \nWe hope to see you there! \n  \n 
URL:https://ranchodelpacificoaz.org/event/gleeful-goats-kids-activity-event/
LOCATION:Rancho Del Pacifico\, 12738 E Via De Arboles\, Chandler\, AZ\, 85249\, United States
ORGANIZER;CN="Jennifer Siozos":MAILTO:jennifers@ranchodelpacificoaz.org
END:VEVENT
END:VCALENDAR