BEGIN:VCALENDAR
VERSION:2.0
PRODID:-//Rancho Del Pacifico - ECPv6.15.20//NONSGML v1.0//EN
CALSCALE:GREGORIAN
METHOD:PUBLISH
X-WR-CALNAME:Rancho Del Pacifico
X-ORIGINAL-URL:https://ranchodelpacificoaz.org
X-WR-CALDESC:Events for Rancho Del Pacifico
REFRESH-INTERVAL;VALUE=DURATION:PT1H
X-Robots-Tag:noindex
X-PUBLISHED-TTL:PT1H
BEGIN:VTIMEZONE
TZID:UTC
BEGIN:STANDARD
TZOFFSETFROM:+0000
TZOFFSETTO:+0000
TZNAME:UTC
DTSTART:20170101T000000
END:STANDARD
END:VTIMEZONE
BEGIN:VEVENT
DTSTART;TZID=UTC:20180920T160000
DTEND;TZID=UTC:20180920T190000
DTSTAMP:20260420T004237
CREATED:20180524T195439Z
LAST-MODIFIED:20180524T195439Z
UID:838-1537459200-1537470000@ranchodelpacificoaz.org
SUMMARY:Chef's Club - A Healthy Cooking Class for Teens
DESCRIPTION:Rancho Del Pacifico doesn’t just have animals\, but gardens as well! We grow many varieties of fruits\, vegetables\, and herbs\, all of which we use to prepare healthy\, fresh meals. \nWe will have a local Chef work with teens in the Ranch House kitchen\, learning how to prepare meals that are healthy and delicious. \nThis class will provide instruction in meal planning\, kitchen safety\, cooking etiquette\, healthy lifestyle coaching\, and giving back to the community. \nAt the end of the class the group will have dinner together\, eating the meal that they prepared themselves. \nOne extra meal will be prepared and delivered to a family in need. \nPlease call our Ranch Office at 480-802-8059 to register today!
URL:https://ranchodelpacificoaz.org/event/chefs-club-a-healthy-cooking-class-for-teens-14/
LOCATION:Rancho Del Pacifico\, 12738 E Via De Arboles\, Chandler\, AZ\, 85249\, United States
ORGANIZER;CN="Jennifer Siozos":MAILTO:jennifers@ranchodelpacificoaz.org
END:VEVENT
BEGIN:VEVENT
DTSTART;TZID=UTC:20180927T160000
DTEND;TZID=UTC:20180927T190000
DTSTAMP:20260420T004237
CREATED:20180524T195529Z
LAST-MODIFIED:20180524T195529Z
UID:840-1538064000-1538074800@ranchodelpacificoaz.org
SUMMARY:Chef's Club - A Healthy Cooking Class for Teens
DESCRIPTION:Rancho Del Pacifico doesn’t just have animals\, but gardens as well! We grow many varieties of fruits\, vegetables\, and herbs\, all of which we use to prepare healthy\, fresh meals. \nWe will have a local Chef work with teens in the Ranch House kitchen\, learning how to prepare meals that are healthy and delicious. \nThis class will provide instruction in meal planning\, kitchen safety\, cooking etiquette\, healthy lifestyle coaching\, and giving back to the community. \nAt the end of the class the group will have dinner together\, eating the meal that they prepared themselves. \nOne extra meal will be prepared and delivered to a family in need. \nPlease call our Ranch Office at 480-802-8059 to register today!
URL:https://ranchodelpacificoaz.org/event/chefs-club-a-healthy-cooking-class-for-teens-15/
LOCATION:Rancho Del Pacifico\, 12738 E Via De Arboles\, Chandler\, AZ\, 85249\, United States
ORGANIZER;CN="Jennifer Siozos":MAILTO:jennifers@ranchodelpacificoaz.org
END:VEVENT
BEGIN:VEVENT
DTSTART;TZID=UTC:20191206T180000
DTEND;TZID=UTC:20191206T190000
DTSTAMP:20260420T004237
CREATED:20191204T224745Z
LAST-MODIFIED:20191204T224745Z
UID:5445-1575655200-1575658800@ranchodelpacificoaz.org
SUMMARY:Coping with grief during the holidays
DESCRIPTION:Grieving\, Remembering & Celebration \n  \n$15 Per Person \n  \n*AHCCCS Clients Covered
URL:https://ranchodelpacificoaz.org/event/coping-with-grief-during-the-holidays/
LOCATION:Rancho Del Pacifico\, 12738 E Via De Arboles\, Chandler\, AZ\, 85249\, United States
ORGANIZER;CN="Ayla Perez":MAILTO:aylap@ranchodelpacificoaz.org
END:VEVENT
BEGIN:VEVENT
DTSTART;TZID=UTC:20191207T130000
DTEND;TZID=UTC:20191207T150000
DTSTAMP:20260420T004237
CREATED:20191204T213250Z
LAST-MODIFIED:20191204T213250Z
UID:5413-1575723600-1575730800@ranchodelpacificoaz.org
SUMMARY:Yoga with Horses
DESCRIPTION:Intro to Yoga Workshop \nSaturday Dec 7th \n1pm-3pm \nLight refreshments and snacks provided \n$12/person \n$25/family \n  \n*AHCCCS clients covered*
URL:https://ranchodelpacificoaz.org/event/yoga-with-horses/
LOCATION:Rancho Del Pacifico\, 12738 E Via De Arboles\, Chandler\, AZ\, 85249\, United States
ORGANIZER;CN="Ayla Perez":MAILTO:aylap@ranchodelpacificoaz.org
END:VEVENT
BEGIN:VEVENT
DTSTART;TZID=UTC:20191214T140000
DTEND;TZID=UTC:20191214T170000
DTSTAMP:20260420T004237
CREATED:20191204T222743Z
LAST-MODIFIED:20191204T222743Z
UID:5432-1576332000-1576342800@ranchodelpacificoaz.org
SUMMARY:Holiday Party
DESCRIPTION:
URL:https://ranchodelpacificoaz.org/event/holiday-party/
LOCATION:Rancho Del Pacifico\, 12738 E Via De Arboles\, Chandler\, AZ\, 85249\, United States
ORGANIZER;CN="Ayla Perez":MAILTO:aylap@ranchodelpacificoaz.org
END:VEVENT
BEGIN:VEVENT
DTSTART;TZID=UTC:20191228T090000
DTEND;TZID=UTC:20191228T100000
DTSTAMP:20260420T004237
CREATED:20191204T224130Z
LAST-MODIFIED:20191219T211237Z
UID:5437-1577523600-1577527200@ranchodelpacificoaz.org
SUMMARY:Yin yoga
DESCRIPTION:
URL:https://ranchodelpacificoaz.org/event/yin-yoga/
LOCATION:Rancho Del Pacifico\, 12738 E Via De Arboles\, Chandler\, AZ\, 85249\, United States
ORGANIZER;CN="Ayla Perez":MAILTO:aylap@ranchodelpacificoaz.org
END:VEVENT
BEGIN:VEVENT
DTSTART;TZID=UTC:20191228T103000
DTEND;TZID=UTC:20191228T113000
DTSTAMP:20260420T004237
CREATED:20191204T224212Z
LAST-MODIFIED:20191219T211345Z
UID:5439-1577529000-1577532600@ranchodelpacificoaz.org
SUMMARY:All Level Yoga
DESCRIPTION:
URL:https://ranchodelpacificoaz.org/event/all-level-yoga-2/
LOCATION:Rancho Del Pacifico\, 12738 E Via De Arboles\, Chandler\, AZ\, 85249\, United States
ORGANIZER;CN="Ayla Perez":MAILTO:aylap@ranchodelpacificoaz.org
END:VEVENT
BEGIN:VEVENT
DTSTART;TZID=UTC:20191228T180000
DTEND;TZID=UTC:20191228T210000
DTSTAMP:20260420T004237
CREATED:20191204T222325Z
LAST-MODIFIED:20191204T222325Z
UID:5420-1577556000-1577566800@ranchodelpacificoaz.org
SUMMARY:Ladies' Night
DESCRIPTION:Join us for a women’s empowerment fun\nfilled time\nDecember 28\, 2019 • 6-9pm\n$35\n15225 E Riggs Rd. Gilbert\, AZ 85298
URL:https://ranchodelpacificoaz.org/event/ladies-night/
LOCATION:Rancho Del Pacifico (Riggs)\, 15225 E Riggs Rd\, Gilbert\, AZ\, 85298\, United States
ORGANIZER;CN="Ayla Perez":MAILTO:aylap@ranchodelpacificoaz.org
END:VEVENT
BEGIN:VEVENT
DTSTART;TZID=UTC:20200104T180000
DTEND;TZID=UTC:20200104T191500
DTSTAMP:20260420T004237
CREATED:20191204T224323Z
LAST-MODIFIED:20191219T213343Z
UID:5441-1578160800-1578165300@ranchodelpacificoaz.org
SUMMARY:Gentle yoga and meditation
DESCRIPTION:
URL:https://ranchodelpacificoaz.org/event/gentle-yoga-and-meditation/
LOCATION:Rancho Del Pacifico\, 12738 E Via De Arboles\, Chandler\, AZ\, 85249\, United States
ORGANIZER;CN="Ayla Perez":MAILTO:aylap@ranchodelpacificoaz.org
END:VEVENT
BEGIN:VEVENT
DTSTART;TZID=UTC:20200108T180000
DTEND;TZID=UTC:20200108T191000
DTSTAMP:20260420T004237
CREATED:20191204T224444Z
LAST-MODIFIED:20191219T213535Z
UID:5443-1578506400-1578510600@ranchodelpacificoaz.org
SUMMARY:Gentle/Restorative/Yin
DESCRIPTION:
URL:https://ranchodelpacificoaz.org/event/gentle-restorative-yin/
LOCATION:Rancho Del Pacifico\, 12738 E Via De Arboles\, Chandler\, AZ\, 85249\, United States
ORGANIZER;CN="Ayla Perez":MAILTO:aylap@ranchodelpacificoaz.org
END:VEVENT
END:VCALENDAR